Package: ExperimentHub Version: 2.12.0 Command: /Library/Frameworks/R.framework/Resources/bin/R CMD check --install=check:ExperimentHub.install-out.txt --library=/Library/Frameworks/R.framework/Resources/library --no-vignettes --timings ExperimentHub_2.12.0.tar.gz StartedAt: 2024-10-17 05:08:47 -0400 (Thu, 17 Oct 2024) EndedAt: 2024-10-17 05:13:20 -0400 (Thu, 17 Oct 2024) EllapsedTime: 272.8 seconds RetCode: 0 Status: WARNINGS CheckDir: ExperimentHub.Rcheck Warnings: 1