Package: ExperimentHub Version: 2.12.0 Command: /Library/Frameworks/R.framework/Resources/bin/R CMD INSTALL ExperimentHub StartedAt: 2024-10-16 15:31:34 -0400 (Wed, 16 Oct 2024) EndedAt: 2024-10-16 15:32:09 -0400 (Wed, 16 Oct 2024) EllapsedTime: 34.5 seconds RetCode: 0 Status: OK