Package: ExperimentHub Version: 2.12.0 Command: /home/biocbuild/bbs-3.19-bioc/R/bin/R CMD build --keep-empty-dirs --no-resave-data ExperimentHub StartedAt: 2024-10-16 18:27:25 -0400 (Wed, 16 Oct 2024) EndedAt: 2024-10-16 18:27:57 -0400 (Wed, 16 Oct 2024) EllapsedTime: 32.2 seconds RetCode: 0 Status: OK PackageFile: ExperimentHub_2.12.0.tar.gz PackageFileSize: 489 KiB