Package: ExperimentHub Version: 2.12.0 Command: rm -rf ExperimentHub.buildbin-libdir && mkdir ExperimentHub.buildbin-libdir && E:\biocbuild\bbs-3.19-bioc\R\bin\R.exe CMD INSTALL --build --library=ExperimentHub.buildbin-libdir ExperimentHub_2.12.0.tar.gz StartedAt: 2024-10-17 07:46:51 -0400 (Thu, 17 Oct 2024) EndedAt: 2024-10-17 07:47:13 -0400 (Thu, 17 Oct 2024) EllapsedTime: 22.0 seconds RetCode: 0 Status: OK PackageFile: ExperimentHub_2.12.0.zip PackageFileSize: 425.3 KiB