Package: ExperimentHub Version: 2.12.0 Command: chmod a+r ExperimentHub -R && E:\biocbuild\bbs-3.19-bioc\R\bin\R.exe CMD build --keep-empty-dirs --no-resave-data ExperimentHub StartedAt: 2024-10-16 19:04:53 -0400 (Wed, 16 Oct 2024) EndedAt: 2024-10-16 19:05:32 -0400 (Wed, 16 Oct 2024) EllapsedTime: 39.2 seconds RetCode: 0 Status: OK PackageFile: ExperimentHub_2.12.0.tar.gz PackageFileSize: 489.1 KiB