Package: ExperimentHub Version: 2.12.0 Command: E:\biocbuild\bbs-3.19-bioc\R\bin\R.exe CMD check --no-multiarch --install=check:ExperimentHub.install-out.txt --library=E:\biocbuild\bbs-3.19-bioc\R\library --no-vignettes --timings ExperimentHub_2.12.0.tar.gz StartedAt: 2024-10-17 01:23:16 -0400 (Thu, 17 Oct 2024) EndedAt: 2024-10-17 01:25:26 -0400 (Thu, 17 Oct 2024) EllapsedTime: 130.1 seconds RetCode: 0 Status: WARNINGS CheckDir: ExperimentHub.Rcheck Warnings: 1