Package: ExperimentHub Version: 2.12.0 Command: E:\biocbuild\bbs-3.19-bioc\R\bin\R.exe CMD INSTALL ExperimentHub StartedAt: 2024-10-16 16:17:45 -0400 (Wed, 16 Oct 2024) EndedAt: 2024-10-16 16:18:06 -0400 (Wed, 16 Oct 2024) EllapsedTime: 21.3 seconds RetCode: 0 Status: OK