Package: ExperimentHubData Version: 1.30.0 Command: /home/biocbuild/R/R-beta-2024-04-15_r86425/bin/R CMD check --install=check:ExperimentHubData.install-out.txt --library=/home/biocbuild/R/R-beta-2024-04-15_r86425/site-library --no-vignettes --timings ExperimentHubData_1.30.0.tar.gz StartedAt: 2024-05-09 07:20:03 -0000 (Thu, 09 May 2024) EndedAt: 2024-05-09 07:25:52 -0000 (Thu, 09 May 2024) EllapsedTime: 348.7 seconds RetCode: 0 Status: WARNINGS CheckDir: ExperimentHubData.Rcheck Warnings: 1