Package: ExperimentHubData Version: 1.30.0 Command: rm -rf ExperimentHubData.buildbin-libdir && mkdir ExperimentHubData.buildbin-libdir && E:\biocbuild\bbs-3.19-bioc\R\bin\R.exe CMD INSTALL --build --library=ExperimentHubData.buildbin-libdir ExperimentHubData_1.30.0.tar.gz StartedAt: 2024-10-17 07:46:53 -0400 (Thu, 17 Oct 2024) EndedAt: 2024-10-17 07:47:57 -0400 (Thu, 17 Oct 2024) EllapsedTime: 63.4 seconds RetCode: 0 Status: OK PackageFile: ExperimentHubData_1.30.0.zip PackageFileSize: 518.8 KiB