Package: ExperimentHubData Version: 1.30.0 Command: chmod a+r ExperimentHubData -R && E:\biocbuild\bbs-3.19-bioc\R\bin\R.exe CMD build --keep-empty-dirs --no-resave-data ExperimentHubData StartedAt: 2024-10-16 19:05:02 -0400 (Wed, 16 Oct 2024) EndedAt: 2024-10-16 19:05:47 -0400 (Wed, 16 Oct 2024) EllapsedTime: 45.0 seconds RetCode: 0 Status: OK PackageFile: ExperimentHubData_1.30.0.tar.gz PackageFileSize: 223 KiB