Package: ExperimentSubset Version: 1.14.0 Command: /Library/Frameworks/R.framework/Resources/bin/R CMD build --keep-empty-dirs --no-resave-data ExperimentSubset StartedAt: 2024-06-09 21:27:32 -0400 (Sun, 09 Jun 2024) EndedAt: 2024-06-09 21:28:49 -0400 (Sun, 09 Jun 2024) EllapsedTime: 77.5 seconds RetCode: 0 Status: OK PackageFile: ExperimentSubset_1.14.0.tar.gz PackageFileSize: 307.4 KiB