Package: ExploreModelMatrix Version: 1.16.0 Command: /Library/Frameworks/R.framework/Resources/bin/R CMD check --install=check:ExploreModelMatrix.install-out.txt --library=/Library/Frameworks/R.framework/Resources/library --no-vignettes --timings ExploreModelMatrix_1.16.0.tar.gz StartedAt: 2024-06-09 20:19:25 -0400 (Sun, 09 Jun 2024) EndedAt: 2024-06-09 20:21:02 -0400 (Sun, 09 Jun 2024) EllapsedTime: 96.9 seconds RetCode: 0 Status: OK CheckDir: ExploreModelMatrix.Rcheck Warnings: 0