Package: ExploreModelMatrix Version: 1.16.0 Command: /home/biocbuild/bbs-3.19-bioc/R/bin/R CMD build --keep-empty-dirs --no-resave-data ExploreModelMatrix StartedAt: 2024-10-16 18:27:36 -0400 (Wed, 16 Oct 2024) EndedAt: 2024-10-16 18:27:52 -0400 (Wed, 16 Oct 2024) EllapsedTime: 16.0 seconds RetCode: 0 Status: OK PackageFile: ExploreModelMatrix_1.16.0.tar.gz PackageFileSize: 2.39 MiB