Package: ExploreModelMatrix Version: 1.16.0 Command: rm -rf ExploreModelMatrix.buildbin-libdir && mkdir ExploreModelMatrix.buildbin-libdir && E:\biocbuild\bbs-3.19-bioc\R\bin\R.exe CMD INSTALL --build --library=ExploreModelMatrix.buildbin-libdir ExploreModelMatrix_1.16.0.tar.gz StartedAt: 2024-10-17 07:46:57 -0400 (Thu, 17 Oct 2024) EndedAt: 2024-10-17 07:47:15 -0400 (Thu, 17 Oct 2024) EllapsedTime: 17.2 seconds RetCode: 0 Status: OK PackageFile: ExploreModelMatrix_1.16.0.zip PackageFileSize: 2.387 MiB