Package: ExpressionAtlas Version: 1.32.0 Command: /Library/Frameworks/R.framework/Resources/bin/R CMD INSTALL ExpressionAtlas StartedAt: 2024-10-16 17:23:58 -0400 (Wed, 16 Oct 2024) EndedAt: 2024-10-16 17:24:25 -0400 (Wed, 16 Oct 2024) EllapsedTime: 27.5 seconds RetCode: 0 Status: OK