Package: ExpressionAtlas Version: 1.32.0 Command: /Library/Frameworks/R.framework/Resources/bin/R CMD check --install=check:ExpressionAtlas.install-out.txt --library=/Library/Frameworks/R.framework/Resources/library --no-vignettes --timings ExpressionAtlas_1.32.0.tar.gz StartedAt: 2024-10-17 05:10:04 -0400 (Thu, 17 Oct 2024) EndedAt: 2024-10-17 05:17:28 -0400 (Thu, 17 Oct 2024) EllapsedTime: 443.4 seconds RetCode: 0 Status: OK CheckDir: ExpressionAtlas.Rcheck Warnings: 0