Package: ExpressionAtlas Version: 1.32.0 Command: chmod a+r ExpressionAtlas -R && E:\biocbuild\bbs-3.19-bioc\R\bin\R.exe CMD build --keep-empty-dirs --no-resave-data ExpressionAtlas StartedAt: 2024-10-16 19:05:35 -0400 (Wed, 16 Oct 2024) EndedAt: 2024-10-16 19:06:11 -0400 (Wed, 16 Oct 2024) EllapsedTime: 36.7 seconds RetCode: 0 Status: OK PackageFile: ExpressionAtlas_1.32.0.tar.gz PackageFileSize: 319 KiB