Package: ExpressionAtlas Version: 1.32.0 Command: E:\biocbuild\bbs-3.19-bioc\R\bin\R.exe CMD check --no-multiarch --install=check:ExpressionAtlas.install-out.txt --library=E:\biocbuild\bbs-3.19-bioc\R\library --no-vignettes --timings ExpressionAtlas_1.32.0.tar.gz StartedAt: 2024-10-17 01:23:58 -0400 (Thu, 17 Oct 2024) EndedAt: 2024-10-17 01:27:32 -0400 (Thu, 17 Oct 2024) EllapsedTime: 213.2 seconds RetCode: 0 Status: OK CheckDir: ExpressionAtlas.Rcheck Warnings: 0