Package: FEAST Version: 1.12.0 Maintainer: Kenong Su MaintainerEmail: kenong.su at emory.edu git_url: https://git.bioconductor.org/packages/FEAST git_branch: RELEASE_3_19 git_last_commit: adbdda9 git_last_commit_date: 2024-04-30 11:33:40 -0400 (Tue, 30 Apr 2024)