Package: FEAST Version: 1.12.0 Command: /Library/Frameworks/R.framework/Resources/bin/R CMD build --keep-empty-dirs --no-resave-data FEAST StartedAt: 2024-06-09 16:38:57 -0400 (Sun, 09 Jun 2024) EndedAt: 2024-06-09 16:40:09 -0400 (Sun, 09 Jun 2024) EllapsedTime: 71.6 seconds RetCode: 0 Status: OK PackageFile: FEAST_1.12.0.tar.gz PackageFileSize: 3.456 MiB