Package: FEAST Version: 1.12.0 Command: /home/biocbuild/bbs-3.19-bioc/R/bin/R CMD build --keep-empty-dirs --no-resave-data FEAST StartedAt: 2024-10-16 18:29:43 -0400 (Wed, 16 Oct 2024) EndedAt: 2024-10-16 18:30:37 -0400 (Wed, 16 Oct 2024) EllapsedTime: 54.1 seconds RetCode: 0 Status: OK PackageFile: FEAST_1.12.0.tar.gz PackageFileSize: 3.439 MiB