Package: FEAST Version: 1.12.0 Command: /home/biocbuild/bbs-3.19-bioc/R/bin/R CMD check --install=check:FEAST.install-out.txt --library=/home/biocbuild/bbs-3.19-bioc/R/site-library --timings FEAST_1.12.0.tar.gz StartedAt: 2024-10-17 00:24:35 -0400 (Thu, 17 Oct 2024) EndedAt: 2024-10-17 00:28:24 -0400 (Thu, 17 Oct 2024) EllapsedTime: 229.5 seconds RetCode: 0 Status: OK CheckDir: FEAST.Rcheck Warnings: 0