Package: FEAST Version: 1.12.0 Command: rm -rf FEAST.buildbin-libdir && mkdir FEAST.buildbin-libdir && E:\biocbuild\bbs-3.19-bioc\R\bin\R.exe CMD INSTALL --build --library=FEAST.buildbin-libdir FEAST_1.12.0.tar.gz StartedAt: 2024-10-17 07:47:35 -0400 (Thu, 17 Oct 2024) EndedAt: 2024-10-17 07:48:20 -0400 (Thu, 17 Oct 2024) EllapsedTime: 44.6 seconds RetCode: 0 Status: OK PackageFile: FEAST_1.12.0.zip PackageFileSize: 4.412 MiB