Package: FELLA Version: 1.24.0 Command: rm -rf FELLA.buildbin-libdir && mkdir FELLA.buildbin-libdir && /Users/biocbuild/BBS/utils/build-universal.sh FELLA_1.24.0.tar.gz /Library/Frameworks/R.framework/Resources/bin/R FELLA.buildbin-libdir StartedAt: 2024-10-18 18:29:15 -0400 (Fri, 18 Oct 2024) EndedAt: 2024-10-18 18:29:40 -0400 (Fri, 18 Oct 2024) EllapsedTime: 24.1 seconds RetCode: 0 Status: OK PackageFile: FELLA_1.24.0.tgz PackageFileSize: 3.904 MiB