Package: FELLA Version: 1.24.0 Command: rm -rf FELLA.buildbin-libdir && mkdir FELLA.buildbin-libdir && /Users/biocbuild/BBS/utils/build-universal.sh FELLA_1.24.0.tar.gz /Library/Frameworks/R.framework/Resources/bin/R FELLA.buildbin-libdir StartedAt: 2024-06-10 00:18:07 -0400 (Mon, 10 Jun 2024) EndedAt: 2024-06-10 00:18:32 -0400 (Mon, 10 Jun 2024) EllapsedTime: 24.8 seconds RetCode: 0 Status: OK PackageFile: FELLA_1.24.0.tgz PackageFileSize: 3.959 MiB