Package: FELLA Version: 1.24.0 Command: /Library/Frameworks/R.framework/Resources/bin/R CMD build --keep-empty-dirs --no-resave-data FELLA StartedAt: 2024-06-09 16:39:24 -0400 (Sun, 09 Jun 2024) EndedAt: 2024-06-09 17:06:44 -0400 (Sun, 09 Jun 2024) EllapsedTime: 1640.5 seconds RetCode: 0 Status: OK PackageFile: FELLA_1.24.0.tar.gz PackageFileSize: 4.35 MiB