Package: FELLA Version: 1.24.0 Command: rm -rf FELLA.buildbin-libdir && mkdir FELLA.buildbin-libdir && F:\biocbuild\bbs-3.19-bioc\R\bin\R.exe CMD INSTALL --build --library=FELLA.buildbin-libdir FELLA_1.24.0.tar.gz StartedAt: 2024-06-27 08:12:42 -0400 (Thu, 27 Jun 2024) EndedAt: 2024-06-27 08:13:09 -0400 (Thu, 27 Jun 2024) EllapsedTime: 26.5 seconds RetCode: 0 Status: OK PackageFile: FELLA_1.24.0.zip PackageFileSize: 3.061 MiB