Package: FELLA Version: 1.24.0 Command: chmod a+r FELLA -R && E:\biocbuild\bbs-3.19-bioc\R\bin\R.exe CMD build --keep-empty-dirs --no-resave-data FELLA StartedAt: 2024-10-16 19:09:04 -0400 (Wed, 16 Oct 2024) EndedAt: 2024-10-16 19:41:02 -0400 (Wed, 16 Oct 2024) EllapsedTime: 1918.0 seconds RetCode: 0 Status: OK PackageFile: FELLA_1.24.0.tar.gz PackageFileSize: 3.438 MiB