Package: FRASER Version: 2.0.0 Command: rm -rf FRASER.buildbin-libdir && mkdir FRASER.buildbin-libdir && /Users/biocbuild/BBS/utils/build-universal.sh FRASER_2.0.0.tar.gz /Library/Frameworks/R.framework/Resources/bin/R FRASER.buildbin-libdir StartedAt: 2024-10-18 18:33:13 -0400 (Fri, 18 Oct 2024) EndedAt: 2024-10-18 18:35:01 -0400 (Fri, 18 Oct 2024) EllapsedTime: 107.6 seconds RetCode: 0 Status: OK PackageFile: FRASER_2.0.0.tgz PackageFileSize: 3.322 MiB