Package: FRASER Version: 2.0.0 Command: /Library/Frameworks/R.framework/Resources/bin/R CMD check --install=check:FRASER.install-out.txt --library=/Library/Frameworks/R.framework/Resources/library --no-vignettes --timings FRASER_2.0.0.tar.gz StartedAt: 2024-10-17 22:02:54 -0400 (Thu, 17 Oct 2024) EndedAt: 2024-10-17 22:20:57 -0400 (Thu, 17 Oct 2024) EllapsedTime: 1083.0 seconds RetCode: 0 Status: OK CheckDir: FRASER.Rcheck Warnings: 0