Package: FRASER Version: 2.0.0 Command: /Library/Frameworks/R.framework/Resources/bin/R CMD INSTALL FRASER StartedAt: 2024-10-16 18:25:00 -0400 (Wed, 16 Oct 2024) EndedAt: 2024-10-16 18:26:27 -0400 (Wed, 16 Oct 2024) EllapsedTime: 87.3 seconds RetCode: 0 Status: OK