Package: FRASER Version: 2.0.0 Command: /Library/Frameworks/R.framework/Resources/bin/R CMD build --keep-empty-dirs --no-resave-data FRASER StartedAt: 2024-10-16 19:21:08 -0400 (Wed, 16 Oct 2024) EndedAt: 2024-10-16 19:32:15 -0400 (Wed, 16 Oct 2024) EllapsedTime: 667.2 seconds RetCode: 0 Status: OK PackageFile: FRASER_2.0.0.tar.gz PackageFileSize: 2.364 MiB