############################################################################## ############################################################################## ### ### Running command: ### ### /Library/Frameworks/R.framework/Resources/bin/R CMD check --install=check:FRASER.install-out.txt --library=/Library/Frameworks/R.framework/Resources/library --no-vignettes --timings FRASER_2.0.0.tar.gz ### ############################################################################## ############################################################################## * using log directory ‘/Users/biocbuild/bbs-3.19-bioc/meat/FRASER.Rcheck’ * using R version 4.4.1 (2024-06-14) * using platform: x86_64-apple-darwin20 * R was compiled by Apple clang version 14.0.0 (clang-1400.0.29.202) GNU Fortran (GCC) 12.2.0 * running under: macOS Monterey 12.7.6 * using session charset: UTF-8 * using option ‘--no-vignettes’ * checking for file ‘FRASER/DESCRIPTION’ ... OK * checking extension type ... Package * this is package ‘FRASER’ version ‘2.0.0’ * package encoding: UTF-8 * checking package namespace information ... OK * checking package dependencies ... OK * checking if this is a source package ... OK * checking if there is a namespace ... OK * checking for hidden files and directories ... OK * checking for portable file names ... OK * checking for sufficient/correct file permissions ... OK * checking whether package ‘FRASER’ can be installed ... OK * used C++ compiler: ‘Apple clang version 14.0.0 (clang-1400.0.29.202)’ * used SDK: ‘MacOSX11.3.sdk’ * checking installed package size ... OK * checking package directory ... OK * checking ‘build’ directory ... OK * checking DESCRIPTION meta-information ... NOTE License stub is invalid DCF. * checking top-level files ... OK * checking for left-over files ... OK * checking index information ... OK * checking package subdirectories ... OK * checking code files for non-ASCII characters ... OK * checking R files for syntax errors ... OK * checking whether the package can be loaded ... OK * checking whether the package can be loaded with stated dependencies ... OK * checking whether the package can be unloaded cleanly ... OK * checking whether the namespace can be loaded with stated dependencies ... OK * checking whether the namespace can be unloaded cleanly ... OK * checking whether startup messages can be suppressed ... OK * checking dependencies in R code ... NOTE Unexported objects imported by ':::' calls: 'S4Vectors:::selectSome' 'ggbio:::.buildFacetsFromArgs' See the note in ?`:::` about the use of this operator. * checking S3 generic/method consistency ... OK * checking replacement functions ... OK * checking foreign function calls ... OK * checking R code for possible problems ... NOTE annotateRangesWithTxDb: no visible binding for global variable ‘include’ calculatePadjValuesOnSubset : : no visible binding for global variable ‘gene_rowIdx’ plotVolcano.FRASER: no visible binding for global variable ‘aberrantLabel’ plotVolcano,FraserDataSet: no visible binding for global variable ‘aberrantLabel’ results,FraserDataSet: no visible binding for global variable ‘padjust’ results,FraserDataSet: no visible binding for global variable ‘pValueGene’ results,FraserDataSet: no visible binding for global variable ‘padjustGene’ Undefined global functions or variables: aberrantLabel gene_rowIdx include pValueGene padjust padjustGene * checking Rd files ... OK * checking Rd metadata ... OK * checking Rd cross-references ... OK * checking for missing documentation entries ... OK * checking for code/documentation mismatches ... OK * checking Rd \usage sections ... OK * checking Rd contents ... OK * checking for unstated dependencies in examples ... OK * checking line endings in C/C++/Fortran sources/headers ... OK * checking line endings in Makefiles ... OK * checking compilation flags in Makevars ... OK * checking for GNU extensions in Makefiles ... OK * checking for portable use of $(BLAS_LIBS) and $(LAPACK_LIBS) ... OK * checking use of PKG_*FLAGS in Makefiles ... OK * checking compiled code ... NOTE Note: information on .o files is not available * checking sizes of PDF files under ‘inst/doc’ ... OK * checking files in ‘vignettes’ ... OK * checking examples ... OK Examples with CPU (user + system) or elapsed time > 5s user system elapsed plotFunctions 285.019 4.446 325.558 potentialImpactAnnotations 103.173 1.708 126.932 FRASER 91.831 1.568 105.561 injectOutliers 66.756 0.532 76.039 results 53.204 0.691 62.201 mergeExternalData 47.959 0.479 54.019 optimHyperParams 48.000 0.306 53.540 annotateRanges 46.140 0.807 61.613 calculatePSIValues 41.882 0.506 49.988 fds-methods 40.219 0.472 48.313 filtering 39.373 0.395 47.541 subset 38.227 0.377 45.174 counts 37.824 0.446 44.039 getter_setter_functions 37.900 0.305 44.356 createTestFraserDataSet 36.855 0.373 43.609 makeSimulatedFraserDataSet 9.526 0.066 10.552 * checking for unstated dependencies in ‘tests’ ... OK * checking tests ... Running ‘testthat.R’