Package: FRASER Version: 2.0.0 Command: /Library/Frameworks/R.framework/Resources/bin/R CMD check --install=check:FRASER.install-out.txt --library=/Library/Frameworks/R.framework/Resources/library --no-vignettes --timings FRASER_2.0.0.tar.gz StartedAt: 2024-10-17 05:30:33 -0400 (Thu, 17 Oct 2024) EndedAt: 2024-10-17 06:10:33 -0400 (Thu, 17 Oct 2024) EllapsedTime: 2400.2 seconds RetCode: None Status: TIMEOUT CheckDir: FRASER.Rcheck Warnings: NA