Package: FRASER Version: 2.0.0 Command: /home/biocbuild/bbs-3.19-bioc/R/bin/R CMD INSTALL FRASER StartedAt: 2024-10-16 16:38:26 -0400 (Wed, 16 Oct 2024) EndedAt: 2024-10-16 16:39:43 -0400 (Wed, 16 Oct 2024) EllapsedTime: 77.3 seconds RetCode: 0 Status: OK