Package: FRASER Version: 2.0.0 Command: E:\biocbuild\bbs-3.19-bioc\R\bin\R.exe CMD check --no-multiarch --install=check:FRASER.install-out.txt --library=E:\biocbuild\bbs-3.19-bioc\R\library --no-vignettes --timings FRASER_2.0.0.tar.gz StartedAt: 2024-10-17 01:35:25 -0400 (Thu, 17 Oct 2024) EndedAt: 2024-10-17 01:54:50 -0400 (Thu, 17 Oct 2024) EllapsedTime: 1165.4 seconds RetCode: 0 Status: OK CheckDir: FRASER.Rcheck Warnings: 0