Package: FRGEpistasis Version: 1.40.0 Command: /Library/Frameworks/R.framework/Resources/bin/R CMD INSTALL FRGEpistasis StartedAt: 2024-10-16 19:02:35 -0400 (Wed, 16 Oct 2024) EndedAt: 2024-10-16 19:02:43 -0400 (Wed, 16 Oct 2024) EllapsedTime: 8.1 seconds RetCode: 0 Status: OK