Package: FRGEpistasis Version: 1.40.0 Command: /home/biocbuild/R/R-beta-2024-04-15_r86425/bin/R CMD check --install=check:FRGEpistasis.install-out.txt --library=/home/biocbuild/R/R-beta-2024-04-15_r86425/site-library --no-vignettes --timings FRGEpistasis_1.40.0.tar.gz StartedAt: 2024-05-09 07:31:44 -0000 (Thu, 09 May 2024) EndedAt: 2024-05-09 07:34:27 -0000 (Thu, 09 May 2024) EllapsedTime: 162.3 seconds RetCode: 0 Status: OK CheckDir: FRGEpistasis.Rcheck Warnings: 0