Package: FRGEpistasis Version: 1.40.0 Command: rm -rf FRGEpistasis.buildbin-libdir && mkdir FRGEpistasis.buildbin-libdir && /Users/biocbuild/BBS/utils/build-universal.sh FRGEpistasis_1.40.0.tar.gz /Library/Frameworks/R.framework/Resources/bin/R FRGEpistasis.buildbin-libdir StartedAt: 2024-10-17 16:11:25 -0400 (Thu, 17 Oct 2024) EndedAt: 2024-10-17 16:11:43 -0400 (Thu, 17 Oct 2024) EllapsedTime: 18.3 seconds RetCode: 0 Status: OK PackageFile: FRGEpistasis_1.40.0.tgz PackageFileSize: 396.9 KiB