Package: FRGEpistasis Version: 1.40.0 Command: /home/biocbuild/bbs-3.19-bioc/R/bin/R CMD INSTALL FRGEpistasis StartedAt: 2024-10-16 16:47:46 -0400 (Wed, 16 Oct 2024) EndedAt: 2024-10-16 16:47:52 -0400 (Wed, 16 Oct 2024) EllapsedTime: 6.1 seconds RetCode: 0 Status: OK