Package: FRGEpistasis Version: 1.40.0 Command: rm -rf FRGEpistasis.buildbin-libdir && mkdir FRGEpistasis.buildbin-libdir && F:\biocbuild\bbs-3.19-bioc\R\bin\R.exe CMD INSTALL --build --library=FRGEpistasis.buildbin-libdir FRGEpistasis_1.40.0.tar.gz StartedAt: 2024-06-27 08:14:16 -0400 (Thu, 27 Jun 2024) EndedAt: 2024-06-27 08:14:43 -0400 (Thu, 27 Jun 2024) EllapsedTime: 26.7 seconds RetCode: 0 Status: OK PackageFile: FRGEpistasis_1.40.0.zip PackageFileSize: 297.1 KiB