Package: FRGEpistasis Version: 1.40.0 Command: rm -rf FRGEpistasis.buildbin-libdir && mkdir FRGEpistasis.buildbin-libdir && E:\biocbuild\bbs-3.19-bioc\R\bin\R.exe CMD INSTALL --build --library=FRGEpistasis.buildbin-libdir FRGEpistasis_1.40.0.tar.gz StartedAt: 2024-10-17 07:49:04 -0400 (Thu, 17 Oct 2024) EndedAt: 2024-10-17 07:49:26 -0400 (Thu, 17 Oct 2024) EllapsedTime: 22.0 seconds RetCode: 0 Status: OK PackageFile: FRGEpistasis_1.40.0.zip PackageFileSize: 297.5 KiB