Package: FRGEpistasis Version: 1.40.0 Command: E:\biocbuild\bbs-3.19-bioc\R\bin\R.exe CMD check --no-multiarch --install=check:FRGEpistasis.install-out.txt --library=E:\biocbuild\bbs-3.19-bioc\R\library --no-vignettes --timings FRGEpistasis_1.40.0.tar.gz StartedAt: 2024-10-17 01:35:41 -0400 (Thu, 17 Oct 2024) EndedAt: 2024-10-17 01:37:57 -0400 (Thu, 17 Oct 2024) EllapsedTime: 136.1 seconds RetCode: 0 Status: OK CheckDir: FRGEpistasis.Rcheck Warnings: 0