Package: FastqCleaner Version: 1.22.0 Command: /Library/Frameworks/R.framework/Resources/bin/R CMD INSTALL FastqCleaner StartedAt: 2024-10-16 17:33:22 -0400 (Wed, 16 Oct 2024) EndedAt: 2024-10-16 17:34:11 -0400 (Wed, 16 Oct 2024) EllapsedTime: 49.3 seconds RetCode: 0 Status: OK