Package: FindIT2 Version: 1.10.0 Maintainer: Guandong Shang MaintainerEmail: shangguandong1996 at 163.com git_url: https://git.bioconductor.org/packages/FindIT2 git_branch: RELEASE_3_19 git_last_commit: ca624b0 git_last_commit_date: 2024-04-30 11:35:36 -0400 (Tue, 30 Apr 2024)