Package: FindIT2 Version: 1.10.0 Command: rm -rf FindIT2.buildbin-libdir && mkdir FindIT2.buildbin-libdir && /Users/biocbuild/BBS/utils/build-universal.sh FindIT2_1.10.0.tar.gz /Library/Frameworks/R.framework/Resources/bin/R FindIT2.buildbin-libdir StartedAt: 2024-10-17 16:09:45 -0400 (Thu, 17 Oct 2024) EndedAt: 2024-10-17 16:11:15 -0400 (Thu, 17 Oct 2024) EllapsedTime: 90.0 seconds RetCode: 0 Status: OK PackageFile: FindIT2_1.10.0.tgz PackageFileSize: 2.436 MiB