Package: FindIT2 Version: 1.10.0 Command: /Library/Frameworks/R.framework/Resources/bin/R CMD build --keep-empty-dirs --no-resave-data FindIT2 StartedAt: 2024-10-16 19:15:55 -0400 (Wed, 16 Oct 2024) EndedAt: 2024-10-16 19:19:56 -0400 (Wed, 16 Oct 2024) EllapsedTime: 241.0 seconds RetCode: 0 Status: OK PackageFile: FindIT2_1.10.0.tar.gz PackageFileSize: 2.318 MiB