Package: FindIT2 Version: 1.10.0 Command: /Library/Frameworks/R.framework/Resources/bin/R CMD INSTALL FindIT2 StartedAt: 2024-10-16 16:17:48 -0400 (Wed, 16 Oct 2024) EndedAt: 2024-10-16 16:19:09 -0400 (Wed, 16 Oct 2024) EllapsedTime: 81.8 seconds RetCode: 0 Status: OK