Package: FindIT2 Version: 1.10.0 Command: rm -rf FindIT2.buildbin-libdir && mkdir FindIT2.buildbin-libdir && E:\biocbuild\bbs-3.19-bioc\R\bin\R.exe CMD INSTALL --build --library=FindIT2.buildbin-libdir FindIT2_1.10.0.tar.gz StartedAt: 2024-10-17 07:47:54 -0400 (Thu, 17 Oct 2024) EndedAt: 2024-10-17 07:48:45 -0400 (Thu, 17 Oct 2024) EllapsedTime: 51.1 seconds RetCode: 0 Status: OK PackageFile: FindIT2_1.10.0.zip PackageFileSize: 1.543 MiB