Package: FindIT2 Version: 1.10.0 Command: E:\biocbuild\bbs-3.19-bioc\R\bin\R.exe CMD INSTALL FindIT2 StartedAt: 2024-10-16 16:57:30 -0400 (Wed, 16 Oct 2024) EndedAt: 2024-10-16 16:58:21 -0400 (Wed, 16 Oct 2024) EllapsedTime: 50.4 seconds RetCode: 0 Status: OK